BEGIN:VCALENDAR
VERSION:2.0
PRODID:-//Cantus Iuvenis - ECPv6.15.20//NONSGML v1.0//EN
CALSCALE:GREGORIAN
METHOD:PUBLISH
X-ORIGINAL-URL:https://cantusiuvenis.at
X-WR-CALDESC:Veranstaltungen für Cantus Iuvenis
REFRESH-INTERVAL;VALUE=DURATION:PT1H
X-Robots-Tag:noindex
X-PUBLISHED-TTL:PT1H
BEGIN:VTIMEZONE
TZID:Europe/Vienna
BEGIN:DAYLIGHT
TZOFFSETFROM:+0100
TZOFFSETTO:+0200
TZNAME:CEST
DTSTART:20230326T010000
END:DAYLIGHT
BEGIN:STANDARD
TZOFFSETFROM:+0200
TZOFFSETTO:+0100
TZNAME:CET
DTSTART:20231029T010000
END:STANDARD
BEGIN:DAYLIGHT
TZOFFSETFROM:+0100
TZOFFSETTO:+0200
TZNAME:CEST
DTSTART:20240331T010000
END:DAYLIGHT
BEGIN:STANDARD
TZOFFSETFROM:+0200
TZOFFSETTO:+0100
TZNAME:CET
DTSTART:20241027T010000
END:STANDARD
BEGIN:DAYLIGHT
TZOFFSETFROM:+0100
TZOFFSETTO:+0200
TZNAME:CEST
DTSTART:20250330T010000
END:DAYLIGHT
BEGIN:STANDARD
TZOFFSETFROM:+0200
TZOFFSETTO:+0100
TZNAME:CET
DTSTART:20251026T010000
END:STANDARD
BEGIN:DAYLIGHT
TZOFFSETFROM:+0100
TZOFFSETTO:+0200
TZNAME:CEST
DTSTART:20260329T010000
END:DAYLIGHT
BEGIN:STANDARD
TZOFFSETFROM:+0200
TZOFFSETTO:+0100
TZNAME:CET
DTSTART:20261025T010000
END:STANDARD
BEGIN:DAYLIGHT
TZOFFSETFROM:+0100
TZOFFSETTO:+0200
TZNAME:CEST
DTSTART:20270328T010000
END:DAYLIGHT
BEGIN:STANDARD
TZOFFSETFROM:+0200
TZOFFSETTO:+0100
TZNAME:CET
DTSTART:20271031T010000
END:STANDARD
END:VTIMEZONE
BEGIN:VEVENT
DTSTART;TZID=Europe/Vienna:20260409T211500
DTEND;TZID=Europe/Vienna:20260409T230000
DTSTAMP:20260420T071535
CREATED:20260407T084725Z
LAST-MODIFIED:20260407T084725Z
UID:7645-1775769300-1775775600@cantusiuvenis.at
SUMMARY:Stammtisch
DESCRIPTION:Gemütlich den Chorabend ausklingen lassen können unsere Sänger*innen beim Stammtisch. Direkt nach der Probe laden wir daher mit kühlen Getränken und Snacks zum gemütlichen Beisammensein. \nAuch ehemalige Sänger:innen sind herzlich willkommen am Stammtisch teilzunehmen!
URL:https://cantusiuvenis.at/event/stammtisch-3/
LOCATION:Canisius Pfarre\, Pulverturmgasse 11\, Wien\, 1090\, Austria
END:VEVENT
BEGIN:VEVENT
DTSTART;TZID=Europe/Vienna:20260305T211500
DTEND;TZID=Europe/Vienna:20260305T230000
DTSTAMP:20260420T071535
CREATED:20260211T124004Z
LAST-MODIFIED:20260211T124004Z
UID:7632-1772745300-1772751600@cantusiuvenis.at
SUMMARY:Stammtisch
DESCRIPTION:Gemütlich den Chorabend ausklingen lassen können unsere Sänger*innen beim Stammtisch. Direkt nach der Probe laden wir daher mit kühlen Getränken und Snacks zum gemütlichen Beisammensein. \nAuch ehemalige Sänger:innen sind herzlich willkommen am Stammtisch teilzunehmen!
URL:https://cantusiuvenis.at/event/stammtisch-2/
LOCATION:Canisius Pfarre\, Pulverturmgasse 11\, Wien\, 1090\, Austria
CATEGORIES:Chor-Events
END:VEVENT
BEGIN:VEVENT
DTSTART;TZID=Europe/Vienna:20260122T191500
DTEND;TZID=Europe/Vienna:20260122T204500
DTSTAMP:20260420T071535
CREATED:20251221T173213Z
LAST-MODIFIED:20260106T195158Z
UID:7573-1769109300-1769114700@cantusiuvenis.at
SUMMARY:Ordentliche Generalversammlung mit Stammtisch
DESCRIPTION:Herzliche Einladung zur ordentlichen Generalversammlung unseres Vereins. Neben den üblichen Punkten zum Jahresabschluss wird auch ein neuer Vorstand gewählt. \nTagesordnung: \n\nBegrüßung und Bericht der Obfrau\nWahl des neuen Vorstands\nBerichte\n\nAnwesenheitsstatistik\nKassabericht\n\n\nWahl der Kassaprüfer:innen\nEntlastung des alten Vorstands\nVerkündung des neu gewählten Vorstands\nWahl der Stimmgruppenleiter:innen\nBudgetfixierung für Chorreise WS2026\nZweckgebundenes Sponsoring für Stimmbildung\nAllfälliges\n\nDanach gibt es Zeit zum Austausch und Kennenlernen für unsere neuen Sänger:innen beim ci-Stammtisch bei Snacks und Getränken. Spende erbeten.
URL:https://cantusiuvenis.at/event/ordentliche-generalversammlung-mit-stammtisch/
LOCATION:die Hauswirtschaft\, Bruno-Marek-Allee 5\, Wien\, 1020\, Austria
CATEGORIES:Chor-Events
END:VEVENT
BEGIN:VEVENT
DTSTART;TZID=Europe/Vienna:20260108T191500
DTEND;TZID=Europe/Vienna:20260108T211500
DTSTAMP:20260420T071535
CREATED:20251025T063101Z
LAST-MODIFIED:20251212T162033Z
UID:7441-1767899700-1767906900@cantusiuvenis.at
SUMMARY:Schnupperprobe
DESCRIPTION:Erste Stücke ansingen\, deine Stimmnachbar:innen kennenlernen und Chorluft schnuppern – bei unserer Schnupperprobe kannst du tief in die cantus iuvenis-Welt eintauchen. Melde dich dazu doch bitte kurz mit einem Mail bei kontakt@cantusiuvenis.at an. Gerne beantworten wir auch deine offenen Fragen per Mail. \nBitte beachte\, dass das Vorsingen an einem separaten Termin stattfindet und für eine ordentliche Mitgliedschaft in unserem Chor verpflichtend ist!
URL:https://cantusiuvenis.at/event/schnupperprobe-2/
LOCATION:Canisius Pfarre\, Pulverturmgasse 11\, Wien\, 1090\, Austria
CATEGORIES:Chor-Events
ATTACH;FMTTYPE=image/jpeg:https://cantusiuvenis.at/wp-content/uploads/2025/03/tempImageXoGjfO-e1761519779513.jpg
END:VEVENT
BEGIN:VEVENT
DTSTART;TZID=Europe/Vienna:20260107T180000
DTEND;TZID=Europe/Vienna:20260107T200000
DTSTAMP:20260420T071535
CREATED:20251025T062639Z
LAST-MODIFIED:20260106T200349Z
UID:7438-1767808800-1767816000@cantusiuvenis.at
SUMMARY:Vorsingen für neue Chormitglieder (nach Anmeldung)
DESCRIPTION:Du möchtest nicht nur unter der Dusche singen? Du bist noch auf der Suche nach einer neuen musikalischen Gruppe? Dann komm zu unserem nächsten Vorsingen. Bitte melde dich dazu direkt hier an. \nFalls du noch unsicher bist und uns erst ein Mal kennen lernen möchtest\, dann kannst du bei der Schnupperprobe cantus iuvenis-Luft schnuppern. Melde dich vorab doch bitte mit einem kurzen Mail bei kontakt@cantusiuvenis.at!
URL:https://cantusiuvenis.at/event/vorsingen-fuer-neue-chormitglieder-2/
LOCATION:Canisius Pfarre\, Pulverturmgasse 11\, Wien\, 1090\, Austria
CATEGORIES:Chor-Events
ATTACH;FMTTYPE=image/png:https://cantusiuvenis.at/wp-content/uploads/2024/06/output-onlinepngtools-4.png
END:VEVENT
BEGIN:VEVENT
DTSTART;TZID=Europe/Vienna:20251220T150000
DTEND;TZID=Europe/Vienna:20251220T180000
DTSTAMP:20260420T071535
CREATED:20251126T112842Z
LAST-MODIFIED:20251126T112842Z
UID:7521-1766242800-1766253600@cantusiuvenis.at
SUMMARY:Weihnachten im TierQuarTier Wien
DESCRIPTION:Für stimmige Atmosphäre sorgen wir einen Nachmittag lang im TierQuarTier Wien. Neben kulinarischen Köstlichkeiten\, wie Maroni\, Punsch und Keksen gibt es bei exklusiven Führungen spannende Einblicke in das Tierheim. \nDie Plätze sind limitiert und müssen vorab online reserviert werden.
URL:https://cantusiuvenis.at/event/weihnachten-im-tierquartier-wien/
LOCATION:TierQuarTier Wien\, Süßenbrunner Straße 101\, Wien\, 1220
CATEGORIES:Chor-Events
END:VEVENT
BEGIN:VEVENT
DTSTART;TZID=Europe/Vienna:20251214T170000
DTEND;TZID=Europe/Vienna:20251214T183000
DTSTAMP:20260420T071535
CREATED:20251009T202056Z
LAST-MODIFIED:20251121T101148Z
UID:7422-1765731600-1765737000@cantusiuvenis.at
SUMMARY:Winterkonzert 2025
DESCRIPTION:Von ladinischen Weihnachtslieder über geistliche Klänge bis zu modernen Melodien – den dritten Adventsonntag feiern wir mit unserem traditionellen Winterkonzert. Dazu präsentierten wir eine bunte Mischung unseres Repertoires in der Canisisus Kirche im 9. Bezirk. \nWir freuen uns auf zahlreiche Zuhörende!
URL:https://cantusiuvenis.at/event/winterkonzert-2025/
LOCATION:Canisiuskirche\, Lustkandlgasse 36\, Wien\, 1090\, Österreich
CATEGORIES:Chor-Events
ATTACH;FMTTYPE=image/png:https://cantusiuvenis.at/wp-content/uploads/2025/11/Flyer-Winterkonzert-2025-A5-2-2-e1763719863363.png
END:VEVENT
BEGIN:VEVENT
DTSTART;TZID=Europe/Vienna:20251213T173000
DTEND;TZID=Europe/Vienna:20251213T180000
DTSTAMP:20260420T071535
CREATED:20251009T202819Z
LAST-MODIFIED:20251107T104555Z
UID:7424-1765647000-1765648800@cantusiuvenis.at
SUMMARY:Auftritt beim Adventmarkt Schloss Esterhazy
DESCRIPTION:Am dritten Adventwochenende führt uns ein Auftritt in das wunderschöne Schloss Esterházy. Vor dem Treiben des traditionellen Adventmarktes singen wir im Haydnsaal einen kleinen Auszug aus unserem Semesterprogramm. \nDer Zugang zum Adventmarkt ist nur mit einem gültigen Ticket möglich. Mehr Informationen zum genauen Programm gibt es hier.
URL:https://cantusiuvenis.at/event/auftritt-beim-adventmarkt-schloss-esterhazy/
LOCATION:Schloss Esterházy\, Schloss Esterházy\, Eisenstadt\, Burgenland\, 7000
CATEGORIES:Chor-Events
END:VEVENT
BEGIN:VEVENT
DTSTART;TZID=Europe/Vienna:20251210T190000
DTEND;TZID=Europe/Vienna:20251210T210000
DTSTAMP:20260420T071535
CREATED:20251107T103250Z
LAST-MODIFIED:20251119T154708Z
UID:7470-1765393200-1765400400@cantusiuvenis.at
SUMMARY:Benefiz Weihnachtskonzert 2025 – Clemens Unterreiner & Friends
DESCRIPTION:Singen für den guten Zweck. Auch heuer dürfen wir Clemens Unterreiner und seine Initiative “Hilfstöne” beim stimmungsvollen und vorweihnachtlichen Benefizkonzert unterstützen. Alle Erlöse kommen Menschen in Not zu Gute! \nTickets können direkt unter www.hilfstoene.at/tickets erworben werden. \nImpressionen von dem Konzert im letzten Jahr gibt es hier.
URL:https://cantusiuvenis.at/event/benefiz-weihnachtskonzert-2025-clemens-unterreiner-friends/
LOCATION:Lutherische Stadtkirche\, Dorotheergasse 18\, Wien\, 1010\, Österreich
CATEGORIES:Chor-Events
ATTACH;FMTTYPE=image/jpeg:https://cantusiuvenis.at/wp-content/uploads/2025/11/image0.jpeg
END:VEVENT
BEGIN:VEVENT
DTSTART;TZID=Europe/Vienna:20251203T180000
DTEND;TZID=Europe/Vienna:20251203T200000
DTSTAMP:20260420T071535
CREATED:20251119T153144Z
LAST-MODIFIED:20251119T154932Z
UID:7477-1764784800-1764792000@cantusiuvenis.at
SUMMARY:Punsch bei Freuds
DESCRIPTION:Am 3. Dezember ab 18 Uhr wird der Innenhof der Berggasse 19 in vorweihnachtliche Stimmung getaucht. Das Sigmund Freud Museum lädt zu einem gemütlichen Abend bei Punsch & Maroni ein. Außerdem wird ein kleiner Rundgang durch das Museum geboten. ein. Wir dürfen dabei für die musikalische Untermalung sorgen. \nhttps://www.freud-museum.at/de/detail/punsch-bei-freuds-2
URL:https://cantusiuvenis.at/event/punsch-bei-freuds/
LOCATION:Sigmund Freud Museum\, Berggasse 19\, 1090 Wien\, Wien\, 1090\, Austria
CATEGORIES:Chor-Events
ATTACH;FMTTYPE=image/jpeg:https://cantusiuvenis.at/wp-content/uploads/2025/11/9393be6e-5c89-4cb4-be69-d732b57d0620.jpg
END:VEVENT
BEGIN:VEVENT
DTSTART;TZID=Europe/Vienna:20251130T163000
DTEND;TZID=Europe/Vienna:20251130T170000
DTSTAMP:20260420T071535
CREATED:20251025T061930Z
LAST-MODIFIED:20251025T062028Z
UID:7435-1764520200-1764522000@cantusiuvenis.at
SUMMARY:Internatinonales Adventsingen im Wiener Rathaus
DESCRIPTION:Von ladinischen Weihnachtslieder über geistliche Stücke bis zu englischen Carols – am ersten Adventsonntag treten wir wieder im Wiener Rathaus auf. Eine halbe Stunde lang singen wir beim Internationalen Adventsingen einen kleinen Auszug aus unserem Semsterprogramm. \nWir freuen uns auf Fans und singbegeisterte Zuhörer:innen! \nMehr Informationen zum Programm des Internationalen Adventsingen gibt es hier.
URL:https://cantusiuvenis.at/event/cantus-iuvenis-beim-internationalen-adventsingen-im-wiener-rathaus-2/
LOCATION:Festsaal\, Lichtenfelsgasse 2\, Wien\, Wien\, 1010\, Austria
CATEGORIES:Chor-Events
ATTACH;FMTTYPE=image/jpeg:https://cantusiuvenis.at/wp-content/uploads/2024/12/IMG_8748-3.jpg
END:VEVENT
BEGIN:VEVENT
DTSTART;TZID=Europe/Vienna:20251109T113000
DTEND;TZID=Europe/Vienna:20251109T123000
DTSTAMP:20260420T071535
CREATED:20251107T101737Z
LAST-MODIFIED:20251107T102049Z
UID:7465-1762687800-1762691400@cantusiuvenis.at
SUMMARY:Matinee der Hoffnung – Gedenkfeier für Dr. Jane Goodall
DESCRIPTION:Am 1. Oktober 2025 verstarb Jane Goodall in Los Angeles. Um der bedeutenden Wissenschafterin zu gedenken\, veranstaltet das Jane Goodall Institut eine Gedenkfeier. Neben Stimmen aus Wissenschaft\, Kunst und dem Roots & Shoots-Netzwerk dürfen wir gemeinsam mit Sänger Cesár Sampson sowie anderen Kunstschaffenden für den musikalischen Rahmen sorgen. \nDie Veranstaltung ist kostenlos. Tickets können online gebucht werden.
URL:https://cantusiuvenis.at/event/gedenkfeier-fuer-dr-jane-goodall/
LOCATION:Meinls Rösthalle\, Julius Meinl Gasse 3-7\, Wien\, 1160
CATEGORIES:Chor-Events
END:VEVENT
BEGIN:VEVENT
DTSTART;TZID=Europe/Vienna:20251002T191500
DTEND;TZID=Europe/Vienna:20251002T211500
DTSTAMP:20260420T071535
CREATED:20250724T110102Z
LAST-MODIFIED:20251126T121409Z
UID:7357-1759432500-1759439700@cantusiuvenis.at
SUMMARY:Schnupperprobe und Stammtisch
DESCRIPTION:Erste Stücke ansingen\, deine Stimmnachbar:innen kennenlernen und Chorluft schnuppern – bei unserer Schnupperprobe kannst du tief in die cantus iuvenis-Welt eintauchen. Melde dich dazu doch bitte kurz mit einem Mail bei kontakt@cantusiuvenis.at an. Gerne beantworten wir auch deine offenen Fragen per Mail. \nBitte beachte\, dass das Vorsingen an einem separaten Termin stattfindet und für eine ordentliche Mitgliedschaft in unserem Chor verpflichtend ist! \nNach der Schnupperprobe lassen wir den Chorabend bei einem gemütlichen Stammtisch ausklingen. Ehemalige Sänger:innen sind herzlich willkommen! Bitte meldet euch dazu kurz per Mail an.
URL:https://cantusiuvenis.at/event/schnupperprobe/
LOCATION:Canisius Pfarre\, Pulverturmgasse 11\, Wien\, 1090\, Austria
CATEGORIES:Chor-Events
END:VEVENT
BEGIN:VEVENT
DTSTART;TZID=Europe/Vienna:20250927T100000
DTEND;TZID=Europe/Vienna:20250927T140000
DTSTAMP:20260420T071535
CREATED:20250514T073857Z
LAST-MODIFIED:20250912T135808Z
UID:7250-1758967200-1758981600@cantusiuvenis.at
SUMMARY:Vorsingen für neue Sänger:innen
DESCRIPTION:Du singst leidenschaftlich gerne unter der Dusche? Du bist noch auf der Suche nach einem neuen Chor? Dann komm zu unserem nächsten Vorsingtermin im Herbst. Alle Details und mehr Informationen zur Aufnahme findest du hier. \nNach unserem Vorsingen\, kannst du direkt bei der Schnupperprobe cantus iuvenis-Luft schnuppern und bei der ersten Probe mitsingen. Melde dich vorab doch bitte mit einem kurzen Mail bei kontakt@cantusiuvenis.at! \n— \nDo you love singing in the shower? Are you still looking for a new choir? Then come to our next audition in the fall. You can find all the details and more information about joining here. \nAfter our audition\, you can get a taste of cantus iuvenis at the trial rehearsal and sing along at the first rehearsal. Please register in advance by sending a short email to kontakt@cantusiuvenis.at!
URL:https://cantusiuvenis.at/event/vorsingen-fuer-neue-saengerinnen/
LOCATION:Canisius Pfarre\, Pulverturmgasse 11\, Wien\, 1090\, Austria
END:VEVENT
BEGIN:VEVENT
DTSTART;TZID=Europe/Vienna:20250628T193000
DTEND;TZID=Europe/Vienna:20250628T210000
DTSTAMP:20260420T071535
CREATED:20250121T091048Z
LAST-MODIFIED:20250604T150553Z
UID:7138-1751139000-1751144400@cantusiuvenis.at
SUMMARY:Sommerkonzert 2025
DESCRIPTION:Frisch\, poppig und sommerlich präsentieren wir unser neustes Repertoire. Zum Semesterabschluss laden wir euch herzlich zu unserem traditionellen Sommerkonzert 2025 im NordbahnSaal der Hauswirtschaft ein. \nVor und nach dem Konzert gibt es die Möglichkeit erfrischende Sommergetränke an unserer hauseigenen Bar zu kaufen. Dabei können wir nur Barzahlung anbieten. \nWir freuen uns auf einen unvergesslichen Konzertabend mit euch! \nEinlass ist ab 18:30 Uhr möglich!
URL:https://cantusiuvenis.at/event/sommerkonzert-zum-semesterabschluss-2025/
LOCATION:NordbahnSaal\, Bruno-Marek-Allee 5/1\, Wien\, 1020\, Österreich
CATEGORIES:Chor-Events
END:VEVENT
BEGIN:VEVENT
DTSTART;TZID=Europe/Vienna:20250612T191500
DTEND;TZID=Europe/Vienna:20250612T211500
DTSTAMP:20260420T071535
CREATED:20250602T220208Z
LAST-MODIFIED:20250604T144730Z
UID:7281-1749755700-1749762900@cantusiuvenis.at
SUMMARY:Probe mit Semesterabschluss & Stammtisch
DESCRIPTION:Bei unserem Semester Abschluss werden Chorleitung sowie alle fleißigen ehrenamtlichen Mitglieder geehrt\, die zum Erfolg unseres Semesters beigetragen haben! Mit viel Applaus und vielen Geschenken blicken wir zurück\, schauen aber auch nach vorn\, welche zukünftigen Projekte in Planung sind! \nDamit sich unsere Sänger*innen neben dem Chor besser kennenlernen\, laden wir direkt nach der Probe zu einem gemütlichen Stammtisch. Dazu reichen wir kleinen Snacks und frische Getränken in unserem Probelokal in der Canisius Pfarre. \nNeben den aktiven Sänger*innen\, sind auch ehemalige Sänger:innen herzlich willkommen an der Probe sowie am Stammtisch teilzunehmen! Bitte gebt uns einfach vorher kurz unter kontakt@cantusiuvenis.at Bescheid.
URL:https://cantusiuvenis.at/event/probe-mit-semesterabschluss-stammtisch/
LOCATION:Canisius Pfarre\, Pulverturmgasse 11\, Wien\, 1090\, Austria
CATEGORIES:Chor-Events
END:VEVENT
BEGIN:VEVENT
DTSTART;TZID=Europe/Vienna:20250531T190000
DTEND;TZID=Europe/Vienna:20250531T203000
DTSTAMP:20260420T071535
CREATED:20250327T144551Z
LAST-MODIFIED:20250514T073015Z
UID:7227-1748718000-1748723400@cantusiuvenis.at
SUMMARY:Konzert in Bruneck
DESCRIPTION:Unser letztes Konzert in Südtirol führt uns in das wunderschöne Ragenhaus in Bruneck. In einem historisch bedeutenden Ambiente dürfen wir ein bunt gemischten Auszug aus unserem Semester-Repertoire singen. \nWir freuen uns auf feine musikbegeisterte Zuhörerschaft!
URL:https://cantusiuvenis.at/event/konzert-in-bruneck/
LOCATION:Ragenhaus\, Paul-von-Sternbach-Straße 3\, Bruneck\, Südtirol\, 39031\, Italy
CATEGORIES:Chor-Events
END:VEVENT
BEGIN:VEVENT
DTSTART;TZID=Europe/Vienna:20250530T200000
DTEND;TZID=Europe/Vienna:20250530T213000
DTSTAMP:20260420T071535
CREATED:20250327T145222Z
LAST-MODIFIED:20250514T072714Z
UID:7230-1748635200-1748640600@cantusiuvenis.at
SUMMARY:Konzert in Corvara
DESCRIPTION:Unser zweites Konzert bringt uns nach Corvara. Auf Einladung des Vereins Badia Musica gestalten wir einen Abend im Veranstaltungssaal Franz A. Rottonara. \nMusikbegeisterte sind herzlich eingeladen\, uns auf unsere musikalischen Reise zu begleiten!
URL:https://cantusiuvenis.at/event/konzert-in-corvara/
LOCATION:Veranstaltungssaal Franz A. Rottonara\, Str. Col Alt 36\, Corvara\, Südtirol\, 39033\, Italy
CATEGORIES:Chor-Events
END:VEVENT
BEGIN:VEVENT
DTSTART;TZID=Europe/Vienna:20250529T180000
DTEND;TZID=Europe/Vienna:20250529T200000
DTSTAMP:20260420T071535
CREATED:20250327T150026Z
LAST-MODIFIED:20251126T121855Z
UID:7235-1748541600-1748548800@cantusiuvenis.at
SUMMARY:Konzert im Museum Ladin
DESCRIPTION:Unser erstes Konzert während der Chorreise führt uns ins Museum Ladin. Unter dem Titel „Identität zwischen den Sprachen“ gestalten wir gemeinsam mit der Lyrikerin und Schriftstellerin Nadia Rungger einen Abend. Die mehrsprachige Musik und Lyrik lädt das Publikum ein\, über Fragen zu Sprache und Identität zu reflektieren. \nWir freuen uns auf einen spannenden und musikalischen Abend.
URL:https://cantusiuvenis.at/event/konzertauftakt-reise-nach-suedtirol-im-museum-ladin/
LOCATION:Museum Ladin Ciastel de Tor\, Torstr. 65\, St. Marin in Thurn\, Südtirol\, 39030\, Italy
CATEGORIES:Chor-Events
END:VEVENT
BEGIN:VEVENT
DTSTART;TZID=Europe/Vienna:20250515T191500
DTEND;TZID=Europe/Vienna:20250515T211500
DTSTAMP:20260420T071535
CREATED:20250121T092351Z
LAST-MODIFIED:20251126T122457Z
UID:7144-1747336500-1747343700@cantusiuvenis.at
SUMMARY:Probe & Stammtisch
DESCRIPTION:Direkt nach der Probe laden wir heute wieder zu einem gemütlichen Stammtisch in unser Probelokal in der Canisius Pfarre. Bei kleinen Snacks und köstlichen Getränken kommen unsere Sänger*innen auch neben dem Chorsingen zum Austauschen. \nEhemalige Sänger:innen sind herzlich willkommen sowohl an der Probe wie auch am Stammtisch teilzunehmen! Bitte gebt uns vorher nur kurz Bescheid unter kontakt@cantusiuvenis.at.
URL:https://cantusiuvenis.at/event/probe-stammtisch-am-8-mai/
LOCATION:Canisius Pfarre\, Pulverturmgasse 11\, Wien\, 1090\, Austria
END:VEVENT
BEGIN:VEVENT
DTSTART;TZID=Europe/Vienna:20250403T191500
DTEND;TZID=Europe/Vienna:20250403T211500
DTSTAMP:20260420T071535
CREATED:20240917T071457Z
LAST-MODIFIED:20251126T122849Z
UID:6562-1743707700-1743714900@cantusiuvenis.at
SUMMARY:Probe & Stammtisch
DESCRIPTION:Gemütlich den Chorabend ausklingen lassen können unsere Sänger*innen beim Stammtisch. Direkt nach der Probe laden wir daher mit kühlen Getränken und frischen Snacks zum gemütlichen Beisammensein. \nAuch ehemalige Sänger:innen sind herzlich willkommen an der Probe sowie am Stammtisch teilzunehmen! Bitte gebt uns vorher einfach kurz Bescheid unter kontakt@cantusiuvenis.at.
URL:https://cantusiuvenis.at/event/ci-stammtisch/
LOCATION:Canisius Pfarre\, Pulverturmgasse 11\, Wien\, 1090\, Austria
CATEGORIES:Chor-Events
END:VEVENT
BEGIN:VEVENT
DTSTART;TZID=Europe/Vienna:20250306T191500
DTEND;TZID=Europe/Vienna:20250306T211500
DTSTAMP:20260420T071535
CREATED:20220214T221813Z
LAST-MODIFIED:20251126T122437Z
UID:4720-1741288500-1741295700@cantusiuvenis.at
SUMMARY:Schnupperprobe & Semesterstart-Stammtisch
DESCRIPTION:Tief eintauchen in die cantus iuvenis-Welt kannst du bei unserer Schnupperprobe. Melde dich dazu bitte mit einem kurzen Mail bei kontakt@cantusiuvenis.at an. Gerne beantworten wir auch deine offenen Fragen per Mail. \nBitte beachte\, dass das Vorsingen an einem separaten Termin stattfindet und für eine ordentliche Mitgliedschaft in unserem Chor verpflichtend ist! \nNach der Schnupperprobe lassen wir den Chorabend bei einem gemütlichen Stammtisch ausklingen. Auch unsere ehemaligen Sänger*innen sind herzlich willkommen! Bitte meldet euch dazu kurz per Mail an.
URL:https://cantusiuvenis.at/event/schnupperprobe-am-6-maerz/
LOCATION:Canisius Pfarre\, Pulverturmgasse 11\, Wien\, 1090\, Austria
CATEGORIES:Chor-Events
END:VEVENT
BEGIN:VEVENT
DTSTART;TZID=Europe/Vienna:20250301T100000
DTEND;TZID=Europe/Vienna:20250301T120000
DTSTAMP:20260420T071535
CREATED:20220716T161923Z
LAST-MODIFIED:20251126T122412Z
UID:4962-1740823200-1740830400@cantusiuvenis.at
SUMMARY:Vorsingen für neue Chormitglieder
DESCRIPTION:Du singst gerne und suchst nach einem neuen Chor? Dann komm zu unserem Vorsingen. Melde dich dazu unter diesem Link an und wähle die passende Uhrzeit aus! \nWenn dir unser Chor gefällt\, kannst du direkt bei der Schnupperprobe cantus iuvenis-Luft schnuppern und gleich bei der ersten Probe mitsingen. Melde dich vorab doch bitte mit einem kurzen Mail bei kontakt@cantusiuvenis.at!
URL:https://cantusiuvenis.at/event/vorsingen-fuer-neue-chormitglieder/
LOCATION:Canisius Pfarre\, Pulverturmgasse 11\, Wien\, 1090\, Austria
CATEGORIES:Chor-Events
END:VEVENT
BEGIN:VEVENT
DTSTART;TZID=Europe/Vienna:20250130T201500
DTEND;TZID=Europe/Vienna:20250130T213000
DTSTAMP:20260420T071535
CREATED:20240917T071811Z
LAST-MODIFIED:20251126T122346Z
UID:6566-1738268100-1738272600@cantusiuvenis.at
SUMMARY:Ordentliche Generalversammlung
DESCRIPTION:Zum Ende des Semester laden wir zu einer ordentlichen Generalversammlung cantus iuvenis. Alle ordentlichen Vereinsmitglieder sind herzlich eingeladen. \n  \nTagesordnung \n\nBestätigung der kooptierten Vorstandsmitglieder\n\n  \n\nInformation zur Nominierung von Ehrenmitgliedern durch den Vorstand\n\n→ Abstimmung über Ehrenmitgliedschaften \n  \n\nInformation zu Programm und Kosten der Chorreise nach Südtirol 2025\n\n→ Abstimmung über Kostenzuschuss aus Mitteln des Vereins \n→ Abstimmung zur Bereitschaft der Kostenübernahme pro teilnehmendem Mitglied \n  \n\nInformation zum cantus iuvenis Datenschutzformular\n\n  \n\nFinanzbericht 2024\n\nBericht der Kassaprüfer:innen \nEntlastung des Vorstands
URL:https://cantusiuvenis.at/event/ordentliche-generalversammlung-des-vereins-cantus-iuvenis/
LOCATION:Canisius Pfarre\, Pulverturmgasse 11\, Wien\, 1090\, Austria
CATEGORIES:Chor-Events
END:VEVENT
BEGIN:VEVENT
DTSTART;TZID=Europe/Vienna:20241219T211500
DTEND;TZID=Europe/Vienna:20241219T230000
DTSTAMP:20260420T071535
CREATED:20240917T071617Z
LAST-MODIFIED:20251126T122542Z
UID:6564-1734642900-1734649200@cantusiuvenis.at
SUMMARY:Weihnachtsfeier 2024
DESCRIPTION:Einmal im Monat kommen wir in gemütlicher Runde bei Snacks und Getränken zusammen. Im Dezember legen wir diesen Termin mit unserer internen Weihnachtsfeier zusammen. \nAlle aktiven und ehemalige Sänger:innen sind herzlich bei unserer Weihnachtsfeier-Probe sowie dem anschließenden Stammtisch willkommen!
URL:https://cantusiuvenis.at/event/weihnachtsfeier/
LOCATION:Canisius Pfarre\, Pulverturmgasse 11\, Wien\, 1090\, Austria
CATEGORIES:Chor-Events
END:VEVENT
BEGIN:VEVENT
DTSTART;TZID=Europe/Vienna:20241215T170000
DTEND;TZID=Europe/Vienna:20241215T183000
DTSTAMP:20260420T071535
CREATED:20240722T105542Z
LAST-MODIFIED:20241120T194107Z
UID:6487-1734282000-1734287400@cantusiuvenis.at
SUMMARY:Winterkonzert 2024
DESCRIPTION:Den dritten Adventsonntag feiern wir mit besinnlicher und stimmungsvoller Musik. Von geistlichen Klängen über moderne Melodien bis zu traditionellen Weihnachtsliedern: An unserem Winterkonzert präsentieren wir eine bunte Mischung unseres Repertoires. Schauplatz unseres Auftritts ist die Canisius Kirche im 9. Bezirk in Wien. \nWir freuen uns auf zahlreiche Zuhörende!
URL:https://cantusiuvenis.at/event/cantus-iuvenis-winterkonzert-2024/
LOCATION:Canisiuskirche\, Lustkandlgasse 36\, Wien\, 1090\, Österreich
CATEGORIES:Chor-Events
END:VEVENT
BEGIN:VEVENT
DTSTART;TZID=Europe/Vienna:20241210T190000
DTEND;TZID=Europe/Vienna:20241210T203000
DTSTAMP:20260420T071535
CREATED:20240722T105734Z
LAST-MODIFIED:20251107T102727Z
UID:6489-1733857200-1733862600@cantusiuvenis.at
SUMMARY:Benefiz Weihnachtskonzert 2024 – Clemens Unterreiner & Friends
DESCRIPTION:Wir freuen uns\, Clemens Unterreiner und seine Initiative “Hilfstöne” auch heuer wieder beim stimmungsvollen und vorweihnachtlichen Benefizkonzert unterstützen zu dürfen. Alle Erlöse kommen Menschen in Not zu Gute! \nTickets können direkt unter www.hilfstoene.at/tickets erworben werden. \nHier ein kleiner Einblick in das Benefizkonzert von letztem Jahr!
URL:https://cantusiuvenis.at/event/benefiz-weihnachtskonzert-2024-clemens-unterreiner-friends/
LOCATION:Lutherische Stadtkirche\, Dorotheergasse 18\, Wien\, 1010\, Österreich
END:VEVENT
BEGIN:VEVENT
DTSTART;TZID=Europe/Vienna:20241201T170000
DTEND;TZID=Europe/Vienna:20241201T173000
DTSTAMP:20260420T071535
CREATED:20240722T110104Z
LAST-MODIFIED:20251126T121942Z
UID:6491-1733072400-1733074200@cantusiuvenis.at
SUMMARY:Internationales Adventsingen im Wiener Rathaus
DESCRIPTION:Aufgepasst! Ein besonderer Auftritt führt uns heuer wieder zum Internationalen Adventsingen. Am ersten Adventsonntag singen wir im Festsaal des Wiener Rathauses ein kleines Best of unseres Semesterprogramms. \nWir freuen uns auf Fans und singbegeisterte Zuhörer:innen! \nMehr Informationen zum Programm des Internationalen Adventsingen gibt es hier.
URL:https://cantusiuvenis.at/event/cantus-iuvenis-beim-internationalen-adventsingen-im-wiener-rathaus/
LOCATION:Festsaal\, Lichtenfelsgasse 2\, Wien\, Wien\, 1010\, Austria
CATEGORIES:Chor-Events
END:VEVENT
BEGIN:VEVENT
DTSTART;TZID=Europe/Vienna:20241107T191500
DTEND;TZID=Europe/Vienna:20241107T211500
DTSTAMP:20260420T071535
CREATED:20240917T071339Z
LAST-MODIFIED:20251126T122311Z
UID:6559-1731006900-1731014100@cantusiuvenis.at
SUMMARY:Schnupperprobe & Stammtisch
DESCRIPTION:Du möchtest uns kennenlernen und unverbindlich bei einer Probe teilnehmen? Dann komme gerne zu einer unserer Schnupperproben. Noten werden vor Ort zur Verfügung gestellt. Bitte melde dich dazu vorher kurz unter kontakt@cantusiuvenis.at an. \nIm Anschluss an die Probe laden wir bei Snacks und Getränken zum gemütlichen Kennenlernen. Aktive und ehemalige Sänger:innen sind herzlich willkommen daran teilzunehmen!
URL:https://cantusiuvenis.at/event/stammtisch/
LOCATION:Canisius Pfarre\, Pulverturmgasse 11\, Wien\, 1090\, Austria
END:VEVENT
BEGIN:VEVENT
DTSTART;TZID=Europe/Vienna:20240721T183000
DTEND;TZID=Europe/Vienna:20240721T200000
DTSTAMP:20260420T071535
CREATED:20240417T154343Z
LAST-MODIFIED:20251126T122031Z
UID:6137-1721586600-1721592000@cantusiuvenis.at
SUMMARY:Cantus Iuvenis meets Kultursommer
DESCRIPTION:Eine kleine\, aber feine Auswahl von Chorliteratur aus dem 20. Jahrhundert dürfen wir diesen Sommer im Herzen Wiens singen. Miriam Laznia wird den Chor bei diesem Anlass dirigieren. \nIn Kooperation mit der stadt wien marketing veranstaltet der Kultursommer Wien zwei Konzertabende beim Film Festival auf dem Wiener Rathausplatz. Ein Abend steht ganz im Zeichen der Chormusik. Auf der Bühne stehen neben cantus iuvenis auch Voices4you\, V.O.I.C.E. & Popchor Wien.
URL:https://cantusiuvenis.at/event/cantus-iuvenis-meets-kultursommer/
LOCATION:Rathausplatz\, Rathausplatz\, Wien\, 1010\, Österreich
CATEGORIES:Chor-Events
ATTACH;FMTTYPE=image/png:https://cantusiuvenis.at/wp-content/uploads/2024/04/Bildschirmfoto-2024-04-20-um-21-33-53.png
END:VEVENT
END:VCALENDAR