BEGIN:VCALENDAR
VERSION:2.0
PRODID:-//Cantus Iuvenis - ECPv6.15.20//NONSGML v1.0//EN
CALSCALE:GREGORIAN
METHOD:PUBLISH
X-WR-CALNAME:Cantus Iuvenis
X-ORIGINAL-URL:https://cantusiuvenis.at
X-WR-CALDESC:Veranstaltungen für Cantus Iuvenis
REFRESH-INTERVAL;VALUE=DURATION:PT1H
X-Robots-Tag:noindex
X-PUBLISHED-TTL:PT1H
BEGIN:VTIMEZONE
TZID:Europe/Vienna
BEGIN:DAYLIGHT
TZOFFSETFROM:+0100
TZOFFSETTO:+0200
TZNAME:CEST
DTSTART:20250330T010000
END:DAYLIGHT
BEGIN:STANDARD
TZOFFSETFROM:+0200
TZOFFSETTO:+0100
TZNAME:CET
DTSTART:20251026T010000
END:STANDARD
BEGIN:DAYLIGHT
TZOFFSETFROM:+0100
TZOFFSETTO:+0200
TZNAME:CEST
DTSTART:20260329T010000
END:DAYLIGHT
BEGIN:STANDARD
TZOFFSETFROM:+0200
TZOFFSETTO:+0100
TZNAME:CET
DTSTART:20261025T010000
END:STANDARD
BEGIN:DAYLIGHT
TZOFFSETFROM:+0100
TZOFFSETTO:+0200
TZNAME:CEST
DTSTART:20270328T010000
END:DAYLIGHT
BEGIN:STANDARD
TZOFFSETFROM:+0200
TZOFFSETTO:+0100
TZNAME:CET
DTSTART:20271031T010000
END:STANDARD
END:VTIMEZONE
BEGIN:VEVENT
DTSTART;TZID=Europe/Vienna:20260107T180000
DTEND;TZID=Europe/Vienna:20260107T200000
DTSTAMP:20260422T124341
CREATED:20251025T062639Z
LAST-MODIFIED:20260106T200349Z
UID:7438-1767808800-1767816000@cantusiuvenis.at
SUMMARY:Vorsingen für neue Chormitglieder (nach Anmeldung)
DESCRIPTION:Du möchtest nicht nur unter der Dusche singen? Du bist noch auf der Suche nach einer neuen musikalischen Gruppe? Dann komm zu unserem nächsten Vorsingen. Bitte melde dich dazu direkt hier an. \nFalls du noch unsicher bist und uns erst ein Mal kennen lernen möchtest\, dann kannst du bei der Schnupperprobe cantus iuvenis-Luft schnuppern. Melde dich vorab doch bitte mit einem kurzen Mail bei kontakt@cantusiuvenis.at!
URL:https://cantusiuvenis.at/event/vorsingen-fuer-neue-chormitglieder-2/
LOCATION:Canisius Pfarre\, Pulverturmgasse 11\, Wien\, 1090\, Austria
CATEGORIES:Chor-Events
ATTACH;FMTTYPE=image/png:https://cantusiuvenis.at/wp-content/uploads/2024/06/output-onlinepngtools-4.png
END:VEVENT
BEGIN:VEVENT
DTSTART;TZID=Europe/Vienna:20260108T191500
DTEND;TZID=Europe/Vienna:20260108T211500
DTSTAMP:20260422T124341
CREATED:20251025T063101Z
LAST-MODIFIED:20251212T162033Z
UID:7441-1767899700-1767906900@cantusiuvenis.at
SUMMARY:Schnupperprobe
DESCRIPTION:Erste Stücke ansingen\, deine Stimmnachbar:innen kennenlernen und Chorluft schnuppern – bei unserer Schnupperprobe kannst du tief in die cantus iuvenis-Welt eintauchen. Melde dich dazu doch bitte kurz mit einem Mail bei kontakt@cantusiuvenis.at an. Gerne beantworten wir auch deine offenen Fragen per Mail. \nBitte beachte\, dass das Vorsingen an einem separaten Termin stattfindet und für eine ordentliche Mitgliedschaft in unserem Chor verpflichtend ist!
URL:https://cantusiuvenis.at/event/schnupperprobe-2/
LOCATION:Canisius Pfarre\, Pulverturmgasse 11\, Wien\, 1090\, Austria
CATEGORIES:Chor-Events
ATTACH;FMTTYPE=image/jpeg:https://cantusiuvenis.at/wp-content/uploads/2025/03/tempImageXoGjfO-e1761519779513.jpg
END:VEVENT
BEGIN:VEVENT
DTSTART;TZID=Europe/Vienna:20260122T191500
DTEND;TZID=Europe/Vienna:20260122T204500
DTSTAMP:20260422T124341
CREATED:20251221T173213Z
LAST-MODIFIED:20260106T195158Z
UID:7573-1769109300-1769114700@cantusiuvenis.at
SUMMARY:Ordentliche Generalversammlung mit Stammtisch
DESCRIPTION:Herzliche Einladung zur ordentlichen Generalversammlung unseres Vereins. Neben den üblichen Punkten zum Jahresabschluss wird auch ein neuer Vorstand gewählt. \nTagesordnung: \n\nBegrüßung und Bericht der Obfrau\nWahl des neuen Vorstands\nBerichte\n\nAnwesenheitsstatistik\nKassabericht\n\n\nWahl der Kassaprüfer:innen\nEntlastung des alten Vorstands\nVerkündung des neu gewählten Vorstands\nWahl der Stimmgruppenleiter:innen\nBudgetfixierung für Chorreise WS2026\nZweckgebundenes Sponsoring für Stimmbildung\nAllfälliges\n\nDanach gibt es Zeit zum Austausch und Kennenlernen für unsere neuen Sänger:innen beim ci-Stammtisch bei Snacks und Getränken. Spende erbeten.
URL:https://cantusiuvenis.at/event/ordentliche-generalversammlung-mit-stammtisch/
LOCATION:die Hauswirtschaft\, Bruno-Marek-Allee 5\, Wien\, 1020\, Austria
CATEGORIES:Chor-Events
END:VEVENT
END:VCALENDAR