BEGIN:VCALENDAR
VERSION:2.0
PRODID:-//Cantus Iuvenis - ECPv6.15.20//NONSGML v1.0//EN
CALSCALE:GREGORIAN
METHOD:PUBLISH
X-ORIGINAL-URL:https://cantusiuvenis.at
X-WR-CALDESC:Veranstaltungen für Cantus Iuvenis
REFRESH-INTERVAL;VALUE=DURATION:PT1H
X-Robots-Tag:noindex
X-PUBLISHED-TTL:PT1H
BEGIN:VTIMEZONE
TZID:Europe/Vienna
BEGIN:DAYLIGHT
TZOFFSETFROM:+0100
TZOFFSETTO:+0200
TZNAME:CEST
DTSTART:20250330T010000
END:DAYLIGHT
BEGIN:STANDARD
TZOFFSETFROM:+0200
TZOFFSETTO:+0100
TZNAME:CET
DTSTART:20251026T010000
END:STANDARD
BEGIN:DAYLIGHT
TZOFFSETFROM:+0100
TZOFFSETTO:+0200
TZNAME:CEST
DTSTART:20260329T010000
END:DAYLIGHT
BEGIN:STANDARD
TZOFFSETFROM:+0200
TZOFFSETTO:+0100
TZNAME:CET
DTSTART:20261025T010000
END:STANDARD
BEGIN:DAYLIGHT
TZOFFSETFROM:+0100
TZOFFSETTO:+0200
TZNAME:CEST
DTSTART:20270328T010000
END:DAYLIGHT
BEGIN:STANDARD
TZOFFSETFROM:+0200
TZOFFSETTO:+0100
TZNAME:CET
DTSTART:20271031T010000
END:STANDARD
END:VTIMEZONE
BEGIN:VEVENT
DTSTART;TZID=Europe/Vienna:20260305T211500
DTEND;TZID=Europe/Vienna:20260305T230000
DTSTAMP:20260420T085015
CREATED:20260211T124004Z
LAST-MODIFIED:20260211T124004Z
UID:7632-1772745300-1772751600@cantusiuvenis.at
SUMMARY:Stammtisch
DESCRIPTION:Gemütlich den Chorabend ausklingen lassen können unsere Sänger*innen beim Stammtisch. Direkt nach der Probe laden wir daher mit kühlen Getränken und Snacks zum gemütlichen Beisammensein. \nAuch ehemalige Sänger:innen sind herzlich willkommen am Stammtisch teilzunehmen!
URL:https://cantusiuvenis.at/event/stammtisch-2/
LOCATION:Canisius Pfarre\, Pulverturmgasse 11\, Wien\, 1090\, Austria
CATEGORIES:Chor-Events
END:VEVENT
END:VCALENDAR