BEGIN:VCALENDAR
VERSION:2.0
PRODID:-//Cantus Iuvenis - ECPv6.15.20//NONSGML v1.0//EN
CALSCALE:GREGORIAN
METHOD:PUBLISH
X-WR-CALNAME:Cantus Iuvenis
X-ORIGINAL-URL:https://cantusiuvenis.at
X-WR-CALDESC:Veranstaltungen für Cantus Iuvenis
REFRESH-INTERVAL;VALUE=DURATION:PT1H
X-Robots-Tag:noindex
X-PUBLISHED-TTL:PT1H
BEGIN:VTIMEZONE
TZID:Europe/Vienna
BEGIN:DAYLIGHT
TZOFFSETFROM:+0100
TZOFFSETTO:+0200
TZNAME:CEST
DTSTART:20230326T010000
END:DAYLIGHT
BEGIN:STANDARD
TZOFFSETFROM:+0200
TZOFFSETTO:+0100
TZNAME:CET
DTSTART:20231029T010000
END:STANDARD
BEGIN:DAYLIGHT
TZOFFSETFROM:+0100
TZOFFSETTO:+0200
TZNAME:CEST
DTSTART:20240331T010000
END:DAYLIGHT
BEGIN:STANDARD
TZOFFSETFROM:+0200
TZOFFSETTO:+0100
TZNAME:CET
DTSTART:20241027T010000
END:STANDARD
BEGIN:DAYLIGHT
TZOFFSETFROM:+0100
TZOFFSETTO:+0200
TZNAME:CEST
DTSTART:20250330T010000
END:DAYLIGHT
BEGIN:STANDARD
TZOFFSETFROM:+0200
TZOFFSETTO:+0100
TZNAME:CET
DTSTART:20251026T010000
END:STANDARD
END:VTIMEZONE
BEGIN:VEVENT
DTSTART;TZID=Europe/Vienna:20241201T170000
DTEND;TZID=Europe/Vienna:20241201T173000
DTSTAMP:20260425T125844
CREATED:20240722T110104Z
LAST-MODIFIED:20251126T121942Z
UID:6491-1733072400-1733074200@cantusiuvenis.at
SUMMARY:Internationales Adventsingen im Wiener Rathaus
DESCRIPTION:Aufgepasst! Ein besonderer Auftritt führt uns heuer wieder zum Internationalen Adventsingen. Am ersten Adventsonntag singen wir im Festsaal des Wiener Rathauses ein kleines Best of unseres Semesterprogramms. \nWir freuen uns auf Fans und singbegeisterte Zuhörer:innen! \nMehr Informationen zum Programm des Internationalen Adventsingen gibt es hier.
URL:https://cantusiuvenis.at/event/cantus-iuvenis-beim-internationalen-adventsingen-im-wiener-rathaus/
LOCATION:Festsaal\, Lichtenfelsgasse 2\, Wien\, Wien\, 1010\, Austria
CATEGORIES:Chor-Events
END:VEVENT
END:VCALENDAR