BEGIN:VCALENDAR
VERSION:2.0
PRODID:-//Cantus Iuvenis - ECPv6.15.20//NONSGML v1.0//EN
CALSCALE:GREGORIAN
METHOD:PUBLISH
X-ORIGINAL-URL:https://cantusiuvenis.at
X-WR-CALDESC:Veranstaltungen für Cantus Iuvenis
REFRESH-INTERVAL;VALUE=DURATION:PT1H
X-Robots-Tag:noindex
X-PUBLISHED-TTL:PT1H
BEGIN:VTIMEZONE
TZID:Europe/Vienna
BEGIN:DAYLIGHT
TZOFFSETFROM:+0100
TZOFFSETTO:+0200
TZNAME:CEST
DTSTART:20240331T010000
END:DAYLIGHT
BEGIN:STANDARD
TZOFFSETFROM:+0200
TZOFFSETTO:+0100
TZNAME:CET
DTSTART:20241027T010000
END:STANDARD
BEGIN:DAYLIGHT
TZOFFSETFROM:+0100
TZOFFSETTO:+0200
TZNAME:CEST
DTSTART:20250330T010000
END:DAYLIGHT
BEGIN:STANDARD
TZOFFSETFROM:+0200
TZOFFSETTO:+0100
TZNAME:CET
DTSTART:20251026T010000
END:STANDARD
BEGIN:DAYLIGHT
TZOFFSETFROM:+0100
TZOFFSETTO:+0200
TZNAME:CEST
DTSTART:20260329T010000
END:DAYLIGHT
BEGIN:STANDARD
TZOFFSETFROM:+0200
TZOFFSETTO:+0100
TZNAME:CET
DTSTART:20261025T010000
END:STANDARD
END:VTIMEZONE
BEGIN:VEVENT
DTSTART;TZID=Europe/Vienna:20251130T163000
DTEND;TZID=Europe/Vienna:20251130T170000
DTSTAMP:20260423T051549
CREATED:20251025T061930Z
LAST-MODIFIED:20251025T062028Z
UID:7435-1764520200-1764522000@cantusiuvenis.at
SUMMARY:Internatinonales Adventsingen im Wiener Rathaus
DESCRIPTION:Von ladinischen Weihnachtslieder über geistliche Stücke bis zu englischen Carols – am ersten Adventsonntag treten wir wieder im Wiener Rathaus auf. Eine halbe Stunde lang singen wir beim Internationalen Adventsingen einen kleinen Auszug aus unserem Semsterprogramm. \nWir freuen uns auf Fans und singbegeisterte Zuhörer:innen! \nMehr Informationen zum Programm des Internationalen Adventsingen gibt es hier.
URL:https://cantusiuvenis.at/event/cantus-iuvenis-beim-internationalen-adventsingen-im-wiener-rathaus-2/
LOCATION:Festsaal\, Lichtenfelsgasse 2\, Wien\, Wien\, 1010\, Austria
CATEGORIES:Chor-Events
ATTACH;FMTTYPE=image/jpeg:https://cantusiuvenis.at/wp-content/uploads/2024/12/IMG_8748-3.jpg
END:VEVENT
END:VCALENDAR