BEGIN:VCALENDAR
VERSION:2.0
PRODID:-//Cantus Iuvenis - ECPv6.15.20//NONSGML v1.0//EN
CALSCALE:GREGORIAN
METHOD:PUBLISH
X-ORIGINAL-URL:https://cantusiuvenis.at
X-WR-CALDESC:Veranstaltungen für Cantus Iuvenis
REFRESH-INTERVAL;VALUE=DURATION:PT1H
X-Robots-Tag:noindex
X-PUBLISHED-TTL:PT1H
BEGIN:VTIMEZONE
TZID:Europe/Vienna
BEGIN:DAYLIGHT
TZOFFSETFROM:+0100
TZOFFSETTO:+0200
TZNAME:CEST
DTSTART:20230326T010000
END:DAYLIGHT
BEGIN:STANDARD
TZOFFSETFROM:+0200
TZOFFSETTO:+0100
TZNAME:CET
DTSTART:20231029T010000
END:STANDARD
BEGIN:DAYLIGHT
TZOFFSETFROM:+0100
TZOFFSETTO:+0200
TZNAME:CEST
DTSTART:20240331T010000
END:DAYLIGHT
BEGIN:STANDARD
TZOFFSETFROM:+0200
TZOFFSETTO:+0100
TZNAME:CET
DTSTART:20241027T010000
END:STANDARD
BEGIN:DAYLIGHT
TZOFFSETFROM:+0100
TZOFFSETTO:+0200
TZNAME:CEST
DTSTART:20250330T010000
END:DAYLIGHT
BEGIN:STANDARD
TZOFFSETFROM:+0200
TZOFFSETTO:+0100
TZNAME:CET
DTSTART:20251026T010000
END:STANDARD
END:VTIMEZONE
BEGIN:VEVENT
DTSTART;TZID=Europe/Vienna:20240721T183000
DTEND;TZID=Europe/Vienna:20240721T200000
DTSTAMP:20260425T124523
CREATED:20240417T154343Z
LAST-MODIFIED:20251126T122031Z
UID:6137-1721586600-1721592000@cantusiuvenis.at
SUMMARY:Cantus Iuvenis meets Kultursommer
DESCRIPTION:Eine kleine\, aber feine Auswahl von Chorliteratur aus dem 20. Jahrhundert dürfen wir diesen Sommer im Herzen Wiens singen. Miriam Laznia wird den Chor bei diesem Anlass dirigieren. \nIn Kooperation mit der stadt wien marketing veranstaltet der Kultursommer Wien zwei Konzertabende beim Film Festival auf dem Wiener Rathausplatz. Ein Abend steht ganz im Zeichen der Chormusik. Auf der Bühne stehen neben cantus iuvenis auch Voices4you\, V.O.I.C.E. & Popchor Wien.
URL:https://cantusiuvenis.at/event/cantus-iuvenis-meets-kultursommer/
LOCATION:Rathausplatz\, Rathausplatz\, Wien\, 1010\, Österreich
CATEGORIES:Chor-Events
ATTACH;FMTTYPE=image/png:https://cantusiuvenis.at/wp-content/uploads/2024/04/Bildschirmfoto-2024-04-20-um-21-33-53.png
END:VEVENT
END:VCALENDAR