BEGIN:VCALENDAR
VERSION:2.0
PRODID:-//Cantus Iuvenis - ECPv6.15.20//NONSGML v1.0//EN
CALSCALE:GREGORIAN
METHOD:PUBLISH
X-WR-CALNAME:Cantus Iuvenis
X-ORIGINAL-URL:https://cantusiuvenis.at
X-WR-CALDESC:Veranstaltungen für Cantus Iuvenis
REFRESH-INTERVAL;VALUE=DURATION:PT1H
X-Robots-Tag:noindex
X-PUBLISHED-TTL:PT1H
BEGIN:VTIMEZONE
TZID:Europe/Vienna
BEGIN:DAYLIGHT
TZOFFSETFROM:+0100
TZOFFSETTO:+0200
TZNAME:CEST
DTSTART:20240331T010000
END:DAYLIGHT
BEGIN:STANDARD
TZOFFSETFROM:+0200
TZOFFSETTO:+0100
TZNAME:CET
DTSTART:20241027T010000
END:STANDARD
BEGIN:DAYLIGHT
TZOFFSETFROM:+0100
TZOFFSETTO:+0200
TZNAME:CEST
DTSTART:20250330T010000
END:DAYLIGHT
BEGIN:STANDARD
TZOFFSETFROM:+0200
TZOFFSETTO:+0100
TZNAME:CET
DTSTART:20251026T010000
END:STANDARD
BEGIN:DAYLIGHT
TZOFFSETFROM:+0100
TZOFFSETTO:+0200
TZNAME:CEST
DTSTART:20260329T010000
END:DAYLIGHT
BEGIN:STANDARD
TZOFFSETFROM:+0200
TZOFFSETTO:+0100
TZNAME:CET
DTSTART:20261025T010000
END:STANDARD
END:VTIMEZONE
BEGIN:VEVENT
DTSTART;TZID=Europe/Vienna:20251220T150000
DTEND;TZID=Europe/Vienna:20251220T180000
DTSTAMP:20260422T175743
CREATED:20251126T112842Z
LAST-MODIFIED:20251126T112842Z
UID:7521-1766242800-1766253600@cantusiuvenis.at
SUMMARY:Weihnachten im TierQuarTier Wien
DESCRIPTION:Für stimmige Atmosphäre sorgen wir einen Nachmittag lang im TierQuarTier Wien. Neben kulinarischen Köstlichkeiten\, wie Maroni\, Punsch und Keksen gibt es bei exklusiven Führungen spannende Einblicke in das Tierheim. \nDie Plätze sind limitiert und müssen vorab online reserviert werden.
URL:https://cantusiuvenis.at/event/weihnachten-im-tierquartier-wien/
LOCATION:TierQuarTier Wien\, Süßenbrunner Straße 101\, Wien\, 1220
CATEGORIES:Chor-Events
END:VEVENT
END:VCALENDAR